BEGIN:VCALENDAR
VERSION:2.0
PRODID:-//Toyota Enthusiasts Club - ECPv6.15.17.1//NONSGML v1.0//EN
CALSCALE:GREGORIAN
METHOD:PUBLISH
X-WR-CALNAME:Toyota Enthusiasts Club
X-ORIGINAL-URL:https://www.toyotaenthusiasts.com
X-WR-CALDESC:Events for Toyota Enthusiasts Club
REFRESH-INTERVAL;VALUE=DURATION:PT1H
X-Robots-Tag:noindex
X-PUBLISHED-TTL:PT1H
BEGIN:VTIMEZONE
TZID:UTC
BEGIN:STANDARD
TZOFFSETFROM:+0000
TZOFFSETTO:+0000
TZNAME:UTC
DTSTART:20180101T000000
END:STANDARD
END:VTIMEZONE
BEGIN:VEVENT
DTSTART;VALUE=DATE:20190601
DTEND;VALUE=DATE:20190603
DTSTAMP:20260425T210210
CREATED:20190419T215745Z
LAST-MODIFIED:20190419T215825Z
UID:1248-1559347200-1559519999@www.toyotaenthusiasts.com
SUMMARY:Tatton Park Classic Car Spectacular 2019
DESCRIPTION:One of Britain’s best and most popular classic car shows. Around 2\,000 classic and performance cars are on display including nearly eighty of Britain’s top classic and performance car clubs including Jaguar\, Lotus\, Jensen\, MG\, Triumph\, BMW and all the classics of yesteryear. Massive two-day Cheshire Autojumble with specialist and general trade stand area of around 200 stalls\, along with the ever popular Car Mart. Also available\, light entertainment with children’s rides\, refreshments and bar. \n  \nContact Peter Hunter\, a booking has been made by his son Ian for 8 passes for SAT/SUN.
URL:https://www.toyotaenthusiasts.com/event/tatton-park-classic-car-spectacular-2019/
LOCATION:Tatton Park\, Tatton Park\, Knutsford\, Cheshire\, WA16 6QN\, United Kingdom
CATEGORIES:Classic Car Event,Club Event,Major Show
ORGANIZER;CN="Peter Hunter":MAILTO:peterhunter@blueyonder.co.uk
END:VEVENT
END:VCALENDAR