BEGIN:VCALENDAR
VERSION:2.0
PRODID:-//Toyota Enthusiasts Club - ECPv6.15.17.1//NONSGML v1.0//EN
CALSCALE:GREGORIAN
METHOD:PUBLISH
X-WR-CALNAME:Toyota Enthusiasts Club
X-ORIGINAL-URL:https://www.toyotaenthusiasts.com
X-WR-CALDESC:Events for Toyota Enthusiasts Club
REFRESH-INTERVAL;VALUE=DURATION:PT1H
X-Robots-Tag:noindex
X-PUBLISHED-TTL:PT1H
BEGIN:VTIMEZONE
TZID:UTC
BEGIN:STANDARD
TZOFFSETFROM:+0000
TZOFFSETTO:+0000
TZNAME:UTC
DTSTART:20200101T000000
END:STANDARD
END:VTIMEZONE
BEGIN:VEVENT
DTSTART;VALUE=DATE:20211112
DTEND;VALUE=DATE:20211115
DTSTAMP:20260424T030054
CREATED:20211019T222219Z
LAST-MODIFIED:20211019T222219Z
UID:1759-1636675200-1636934399@www.toyotaenthusiasts.com
SUMMARY:NEC Lancaster Insurance Classic Motor Show
DESCRIPTION:The club has again been fortunate enough to be invited to have a stand at the Lancaster Insurance Classic Motor Show at the NEC for 2021. This is always a great\, massive end of season event\, that promises to be extra special this year after being postponed due to COVID. This year\, the club is celebrating the 50th anniversary of the first TA22 Celicas arriving in the UK. \nThis year the event runs from Friday 12th-Sunday 14th November. Tickets and further info are available from https://www.necclassicmotorshow.com/. The discount code for TEC members was emailed out with the last TEC Topics in September\, but we will email this again periodically in the run up to the show. \nPlease note that the NEC will be undertaking COVID pass checks for all visitors aged 18 or over. More info can be found on how to get your COVID pass here: https://www.necclassicmotorshow.com/safety-measures \n  \n  \nThe Lancaster Insurance Classic Motor Show\, with Discovery\, which brings together a great array of classic car and motorcycle clubs along with their iconic classic and vintage cars and motorbikes\, is an event not to be missed. \nNo matter what you’re looking for this is the ultimate season finale for any classic car/bike owner\, collector\, enthusiast\, club member\, or simply anyone with a passion for classic vehicles! \nBut it’s not just about the classics on display. As well as admiring these amazing vehicles\, you can shop for those elusive pieces in the autojumble\, or source parts and tools for your maintenance and restoration needs from the many specialist traders. \nLooking for something to fill that classic-shaped hole in your life? You’ll find an outstanding range on offer from the Dealers and at Silverstone Auctions. \nThen there are all the activities you can enjoy. Hear talks from motoring celebrities and experts\, learn from specialists throughout the halls\, or drive out in a unique classics with HERO-ERA or Sporting Bears\, helping them  raise money for some brilliant children’s charities.
URL:https://www.toyotaenthusiasts.com/event/nec-lancaster-insurance-classic-motor-show/
LOCATION:NEC Birmingham\, The NEC\, Birmingham\, B40 1NT\, United Kingdom
CATEGORIES:Classic Car Event,Club Event,Major Show
ATTACH;FMTTYPE=image/jpeg:https://www.toyotaenthusiasts.com/wp-content/uploads/2021/10/CMS_Logo_2021_Discovery_CMYK1.jpg
END:VEVENT
END:VCALENDAR