BEGIN:VCALENDAR
VERSION:2.0
PRODID:-//Toyota Enthusiasts Club - ECPv6.15.17.1//NONSGML v1.0//EN
CALSCALE:GREGORIAN
METHOD:PUBLISH
X-WR-CALNAME:Toyota Enthusiasts Club
X-ORIGINAL-URL:https://www.toyotaenthusiasts.com
X-WR-CALDESC:Events for Toyota Enthusiasts Club
REFRESH-INTERVAL;VALUE=DURATION:PT1H
X-Robots-Tag:noindex
X-PUBLISHED-TTL:PT1H
BEGIN:VTIMEZONE
TZID:UTC
BEGIN:STANDARD
TZOFFSETFROM:+0000
TZOFFSETTO:+0000
TZNAME:UTC
DTSTART:20210101T000000
END:STANDARD
END:VTIMEZONE
BEGIN:VEVENT
DTSTART;VALUE=DATE:20220318
DTEND;VALUE=DATE:20220321
DTSTAMP:20260423T204245
CREATED:20220122T235225Z
LAST-MODIFIED:20220122T235519Z
UID:1843-1647561600-1647820799@www.toyotaenthusiasts.com
SUMMARY:Practical Classics Classic Car & Restoration Show
DESCRIPTION:The Practical Classics show is back for 2022 and the TEC have been allocated a stand with space for 5 cars. This is the big season opener for a lot of people\, similar to the November NEC show but with a bit of a different feel with people working on the cars on the club stands. \nThis year the event is running from the 18th to the 20th of March\, and as with the November show\, COVID pass checks will be carried out on entry so please make sure you have these ready. More information on that can be found here: https://www.necrestorationshow.com/safety-measures \nThe Practical Classics Classic Car & Restoration Show is the show to attend whether you are looking to reignite your passion for cars\, finish a restoration project or simply want to reminisce with family and friends over the beautiful completed classic cars on display. \nThe event brings together 1000+ cars on display; 150+ car clubs representing a wide variety of marques and models; 250+ exhibitors and autojumblers including restoration companies\, services providers and product suppliers; the Classic Car Auction; celebrities; car competitions; practical workshops on restoration skills and lots more.  \nSo make sure you don’t miss out on the opportunity to source all the tools\, knowledge\, services you need in one place while enjoying the cars and activities on offer. \nTickets can be purchashed at this link https://necrestorationshow.seetickets.com/event/practical-classics-classic-car-restoration-show/nec/2107543 and the TEC club member discount code will be emailed out shortly. We look forward to seeing you there!
URL:https://www.toyotaenthusiasts.com/event/practical-classics-classic-car-restoration-show/
LOCATION:NEC Birmingham\, The NEC\, Birmingham\, B40 1NT\, United Kingdom
CATEGORIES:Classic Car Event,Club Event,Major Show
ATTACH;FMTTYPE=image/jpeg:https://www.toyotaenthusiasts.com/wp-content/uploads/2022/01/PCRS_logo_no_date_WithDiscovery1.jpg
END:VEVENT
END:VCALENDAR