BEGIN:VCALENDAR
VERSION:2.0
PRODID:-//Toyota Enthusiasts Club - ECPv6.15.17.1//NONSGML v1.0//EN
CALSCALE:GREGORIAN
METHOD:PUBLISH
X-ORIGINAL-URL:https://www.toyotaenthusiasts.com
X-WR-CALDESC:Events for Toyota Enthusiasts Club
REFRESH-INTERVAL;VALUE=DURATION:PT1H
X-Robots-Tag:noindex
X-PUBLISHED-TTL:PT1H
BEGIN:VTIMEZONE
TZID:UTC
BEGIN:STANDARD
TZOFFSETFROM:+0000
TZOFFSETTO:+0000
TZNAME:UTC
DTSTART:20210101T000000
END:STANDARD
END:VTIMEZONE
BEGIN:VEVENT
DTSTART;VALUE=DATE:20220604
DTEND;VALUE=DATE:20220606
DTSTAMP:20260423T155243
CREATED:20220327T164024Z
LAST-MODIFIED:20220327T164052Z
UID:1930-1654300800-1654473599@www.toyotaenthusiasts.com
SUMMARY:Tatton Park Classic & Performance car spectacular
DESCRIPTION:The Classic and Performance Car Spectacular is one of the UK’S most loved classic car shows\, celebrating the golden age of motoring. Enthusiasts can view some of the finest cars ever made\, with more than 2000 classics on site. There is something for everyone! Buying or selling? Don’t miss our famous classic car autojumble. More than 90 car clubs will exhibit their vehicles alongside superb examples owned by private exhibitors. \nPlease contact Jeff Markham for details.
URL:https://www.toyotaenthusiasts.com/event/tatton-park-classic-performance-car-spectacular/
LOCATION:Tatton Park\, Tatton Park\, Knutsford\, Cheshire\, WA16 6QN\, United Kingdom
CATEGORIES:Classic Car Event,Club Event,Major Show
ORGANIZER;CN="Jeff Markham":MAILTO:jeff@toyotaenthusiasts.com
END:VEVENT
END:VCALENDAR