BEGIN:VCALENDAR
VERSION:2.0
PRODID:-//Toyota Enthusiasts Club - ECPv6.15.17.1//NONSGML v1.0//EN
CALSCALE:GREGORIAN
METHOD:PUBLISH
X-WR-CALNAME:Toyota Enthusiasts Club
X-ORIGINAL-URL:https://www.toyotaenthusiasts.com
X-WR-CALDESC:Events for Toyota Enthusiasts Club
REFRESH-INTERVAL;VALUE=DURATION:PT1H
X-Robots-Tag:noindex
X-PUBLISHED-TTL:PT1H
BEGIN:VTIMEZONE
TZID:UTC
BEGIN:STANDARD
TZOFFSETFROM:+0000
TZOFFSETTO:+0000
TZNAME:UTC
DTSTART:20210101T000000
END:STANDARD
END:VTIMEZONE
BEGIN:VEVENT
DTSTART;TZID=UTC:20220820T080000
DTEND;TZID=UTC:20220821T170000
DTSTAMP:20260423T122718
CREATED:20220424T150724Z
LAST-MODIFIED:20220424T150724Z
UID:1941-1660982400-1661101200@www.toyotaenthusiasts.com
SUMMARY:Tatton Park Passion for Power Classic Motor Show
DESCRIPTION:Tatton Park Passion for Power Classic Motor Show & Cheshire Autojumble has been running for more than 30 years and returns to Tatton Park this summer. The show is famous for the unique and eclectic mix of powerful performance cars with rare and exciting vehicles featured every year\, from Ferraris to Lamborghinis. \nSome of our loyal car clubs will be at the show\, decked out with their themed exhibitions and elaborate knowledge of anything and everything supercar. They are always happy to have a chat about their incredible vehicles – or anything else to do with classic cars! \nPlease contact Jeff at jeff@toyotaenthusiasts.com if you want to display your car.
URL:https://www.toyotaenthusiasts.com/event/tatton-park-passion-for-power-classic-motor-show-2/
LOCATION:Tatton Park\, Tatton Park\, Knutsford\, Cheshire\, WA16 6QN\, United Kingdom
CATEGORIES:Classic Car Event,Major Show
ORGANIZER;CN="Jeff Markham":MAILTO:jeff@toyotaenthusiasts.com
END:VEVENT
BEGIN:VEVENT
DTSTART;VALUE=DATE:20220821
DTEND;VALUE=DATE:20220822
DTSTAMP:20260423T122718
CREATED:20220424T152450Z
LAST-MODIFIED:20220515T215036Z
UID:1944-1661040000-1661126399@www.toyotaenthusiasts.com
SUMMARY:Cumbria Classic and Motorsport Show
DESCRIPTION:This was an excellent show last year with a great turnout of Toyotas\, and over 800 cars of all sorts so there was something for everyone to see.  \nhttps://www.wigtonmc.co.uk/ccw/index.php \nPlease contact Harvey if you want to show your car here.
URL:https://www.toyotaenthusiasts.com/event/cumbria-classic-and-motorsport-show/
LOCATION:Warwickshire
END:VEVENT
END:VCALENDAR