BEGIN:VCALENDAR
VERSION:2.0
PRODID:-//Toyota Enthusiasts Club - ECPv6.15.17.1//NONSGML v1.0//EN
CALSCALE:GREGORIAN
METHOD:PUBLISH
X-ORIGINAL-URL:https://www.toyotaenthusiasts.com
X-WR-CALDESC:Events for Toyota Enthusiasts Club
REFRESH-INTERVAL;VALUE=DURATION:PT1H
X-Robots-Tag:noindex
X-PUBLISHED-TTL:PT1H
BEGIN:VTIMEZONE
TZID:UTC
BEGIN:STANDARD
TZOFFSETFROM:+0000
TZOFFSETTO:+0000
TZNAME:UTC
DTSTART:20220101T000000
END:STANDARD
END:VTIMEZONE
BEGIN:VEVENT
DTSTART;VALUE=DATE:20230324
DTEND;VALUE=DATE:20230327
DTSTAMP:20260423T005203
CREATED:20230112T224717Z
LAST-MODIFIED:20230210T225023Z
UID:2095-1679616000-1679875199@www.toyotaenthusiasts.com
SUMMARY:Practical Classics Classic Car & Restoration Show 2023
DESCRIPTION:We have again been lucky enough to have been allocated a TEC stand at the March NEC Classic car & Restoration show – details below. \nThe Practical Classics Classic Car & Restoration Show is the show to attend whether you are looking to reignite your passion for cars\, finish a restoration project or simply want to reminisce with family and friends over the beautiful completed classic cars on display. \nThe event brings together 1000+ cars on display; 150+ car clubs representing a wide variety of marques and models; 250+ exhibitors and autojumblers including restoration companies\, services providers and product suppliers; the Classic Car Auction; celebrities; car competitions; practical workshops on restoration skills and lots more.  \nSo make sure you don’t miss out on the opportunity to source all the tools\, knowledge\, services you need in one place while enjoying the cars and activities on offer. \nWe look forward to seeing you there!
URL:https://www.toyotaenthusiasts.com/event/practical-classics-classic-car-restoration-show-2023/
LOCATION:NEC Birmingham\, The NEC\, Birmingham\, B40 1NT\, United Kingdom
CATEGORIES:Classic Car Event,Major Show
ATTACH;FMTTYPE=image/jpeg:https://www.toyotaenthusiasts.com/wp-content/uploads/2022/01/PCRS_logo_no_date_WithDiscovery1.jpg
END:VEVENT
END:VCALENDAR