BEGIN:VCALENDAR
VERSION:2.0
PRODID:-//Toyota Enthusiasts Club - ECPv6.15.17.1//NONSGML v1.0//EN
CALSCALE:GREGORIAN
METHOD:PUBLISH
X-ORIGINAL-URL:https://www.toyotaenthusiasts.com
X-WR-CALDESC:Events for Toyota Enthusiasts Club
REFRESH-INTERVAL;VALUE=DURATION:PT1H
X-Robots-Tag:noindex
X-PUBLISHED-TTL:PT1H
BEGIN:VTIMEZONE
TZID:UTC
BEGIN:STANDARD
TZOFFSETFROM:+0000
TZOFFSETTO:+0000
TZNAME:UTC
DTSTART:20220101T000000
END:STANDARD
END:VTIMEZONE
BEGIN:VEVENT
DTSTART;VALUE=DATE:20231110
DTEND;VALUE=DATE:20231113
DTSTAMP:20260422T112851
CREATED:20230908T150452Z
LAST-MODIFIED:20231008T230504Z
UID:2124-1699574400-1699833599@www.toyotaenthusiasts.com
SUMMARY:NEC Classic Motor Show
DESCRIPTION:https://www.necclassicmotorshow.com/ \nThis year for the end of season NEC show\, the TEC has been allocated a large stand in a new location\, and as always this promises to be a massive show and a great end to the season. \nThe club ticket discount code has been mailed out to members\, if you haven’t received this already please contact us.
URL:https://www.toyotaenthusiasts.com/event/nec-classic-motor-show-4/
LOCATION:NEC Birmingham\, The NEC\, Birmingham\, B40 1NT\, United Kingdom
CATEGORIES:Classic Car Event,Major Show
ATTACH;FMTTYPE=image/png:https://www.toyotaenthusiasts.com/wp-content/uploads/2023/10/CCSLogo23-1.png
END:VEVENT
END:VCALENDAR