BEGIN:VCALENDAR
VERSION:2.0
PRODID:-//Toyota Enthusiasts Club - ECPv6.15.17.1//NONSGML v1.0//EN
CALSCALE:GREGORIAN
METHOD:PUBLISH
X-WR-CALNAME:Toyota Enthusiasts Club
X-ORIGINAL-URL:https://www.toyotaenthusiasts.com
X-WR-CALDESC:Events for Toyota Enthusiasts Club
REFRESH-INTERVAL;VALUE=DURATION:PT1H
X-Robots-Tag:noindex
X-PUBLISHED-TTL:PT1H
BEGIN:VTIMEZONE
TZID:UTC
BEGIN:STANDARD
TZOFFSETFROM:+0000
TZOFFSETTO:+0000
TZNAME:UTC
DTSTART:20230101T000000
END:STANDARD
END:VTIMEZONE
BEGIN:VEVENT
DTSTART;TZID=UTC:20240322T100000
DTEND;TZID=UTC:20240324T170000
DTSTAMP:20260422T044232
CREATED:20240224T191905Z
LAST-MODIFIED:20240423T185838Z
UID:2130-1711101600-1711299600@www.toyotaenthusiasts.com
SUMMARY:Practical Classics Classic Car & Restoration Show 2024
DESCRIPTION:We have again been lucky enough to have been allocated a TEC stand at the March NEC Classic car & Restoration show – details below. \nThe Practical Classics Classic Car & Restoration Show is the show to attend whether you are looking to reignite your passion for cars\, finish a restoration project or simply want to reminisce with family and friends over the beautiful completed classic cars on display. \nThe event brings together 1000+ cars on display; 150+ car clubs representing a wide variety of marques and models; 250+ exhibitors and autojumblers including restoration companies\, services providers and product suppliers; the Classic Car Auction; celebrities; car competitions; practical workshops on restoration skills and lots more.  \nSo make sure you don’t miss out on the opportunity to source all the tools\, knowledge\, services you need in one place while enjoying the cars and activities on offer. \nWe look forward to seeing you there!
URL:https://www.toyotaenthusiasts.com/event/practical-classics-classic-car-restoration-show-2024/
LOCATION:NEC Birmingham\, The NEC\, Birmingham\, B40 1NT\, United Kingdom
CATEGORIES:Classic Car Event,Major Show
ATTACH;FMTTYPE=image/jpeg:https://www.toyotaenthusiasts.com/wp-content/uploads/2024/02/PCRS_Logo_2024_Dated.png1_.jpg
END:VEVENT
END:VCALENDAR