BEGIN:VCALENDAR
VERSION:2.0
PRODID:-//Toyota Enthusiasts Club - ECPv6.15.17.1//NONSGML v1.0//EN
CALSCALE:GREGORIAN
METHOD:PUBLISH
X-WR-CALNAME:Toyota Enthusiasts Club
X-ORIGINAL-URL:https://www.toyotaenthusiasts.com
X-WR-CALDESC:Events for Toyota Enthusiasts Club
REFRESH-INTERVAL;VALUE=DURATION:PT1H
X-Robots-Tag:noindex
X-PUBLISHED-TTL:PT1H
BEGIN:VTIMEZONE
TZID:UTC
BEGIN:STANDARD
TZOFFSETFROM:+0000
TZOFFSETTO:+0000
TZNAME:UTC
DTSTART:20230101T000000
END:STANDARD
END:VTIMEZONE
BEGIN:VEVENT
DTSTART;TZID=UTC:20240728T100000
DTEND;TZID=UTC:20240728T160000
DTSTAMP:20260421T221142
CREATED:20240706T164803Z
LAST-MODIFIED:20240706T164803Z
UID:2149-1722160800-1722182400@www.toyotaenthusiasts.com
SUMMARY:North Wales classic car and motorcycle show
DESCRIPTION:
URL:https://www.toyotaenthusiasts.com/event/north-wales-classic-car-and-motorcycle-show/
LOCATION:Bodrhyddan Hall\, Dyserth Rd\, Rhuddlan\, Rhyl\, LL18 5SB
ORGANIZER;CN="Jeff Markham":MAILTO:jeff@toyotaenthusiasts.com
END:VEVENT
END:VCALENDAR