BEGIN:VCALENDAR
VERSION:2.0
PRODID:-//Toyota Enthusiasts Club - ECPv6.15.17.1//NONSGML v1.0//EN
CALSCALE:GREGORIAN
METHOD:PUBLISH
X-WR-CALNAME:Toyota Enthusiasts Club
X-ORIGINAL-URL:https://www.toyotaenthusiasts.com
X-WR-CALDESC:Events for Toyota Enthusiasts Club
REFRESH-INTERVAL;VALUE=DURATION:PT1H
X-Robots-Tag:noindex
X-PUBLISHED-TTL:PT1H
BEGIN:VTIMEZONE
TZID:UTC
BEGIN:STANDARD
TZOFFSETFROM:+0000
TZOFFSETTO:+0000
TZNAME:UTC
DTSTART:20230101T000000
END:STANDARD
END:VTIMEZONE
BEGIN:VEVENT
DTSTART;VALUE=DATE:20240811
DTEND;VALUE=DATE:20240812
DTSTAMP:20260421T204128
CREATED:20240506T164817Z
LAST-MODIFIED:20240706T165157Z
UID:2151-1723334400-1723420799@www.toyotaenthusiasts.com
SUMMARY:TEC National and AGM August 2024
DESCRIPTION:
URL:https://www.toyotaenthusiasts.com/event/tec-national-and-agm-august-2024/
LOCATION:The Piston Club\, The Stag\, Alcester Road\, Redhill\, Stratford upon Avon\, Warwickshire\, B49 6NQ\, United Kingdom
CATEGORIES:Club Event,Toyota-specific Event
ATTACH;FMTTYPE=image/jpeg:https://www.toyotaenthusiasts.com/wp-content/uploads/2022/01/IMG_8639-scaled.jpg
END:VEVENT
END:VCALENDAR