BEGIN:VCALENDAR
VERSION:2.0
PRODID:-//Toyota Enthusiasts Club - ECPv6.15.17.1//NONSGML v1.0//EN
CALSCALE:GREGORIAN
METHOD:PUBLISH
X-ORIGINAL-URL:https://www.toyotaenthusiasts.com
X-WR-CALDESC:Events for Toyota Enthusiasts Club
REFRESH-INTERVAL;VALUE=DURATION:PT1H
X-Robots-Tag:noindex
X-PUBLISHED-TTL:PT1H
BEGIN:VTIMEZONE
TZID:UTC
BEGIN:STANDARD
TZOFFSETFROM:+0000
TZOFFSETTO:+0000
TZNAME:UTC
DTSTART:20230101T000000
END:STANDARD
END:VTIMEZONE
BEGIN:VEVENT
DTSTART;VALUE=DATE:20241108
DTEND;VALUE=DATE:20241111
DTSTAMP:20260421T171536
CREATED:20241002T215120Z
LAST-MODIFIED:20241104T215359Z
UID:2255-1731024000-1731283199@www.toyotaenthusiasts.com
SUMMARY:NEC Classic Motor Show
DESCRIPTION:https://www.necclassicmotorshow.com/ \nAs always this promises to be a massive show and a great end to the season. \nThe club ticket discount code for this year is CCCNOV732 and saves you £4 per ticket.
URL:https://www.toyotaenthusiasts.com/event/nec-classic-motor-show-5/
LOCATION:NEC Birmingham\, The NEC\, Birmingham\, B40 1NT\, United Kingdom
CATEGORIES:Classic Car Event,Major Show
END:VEVENT
END:VCALENDAR