BEGIN:VCALENDAR
VERSION:2.0
PRODID:-//Toyota Enthusiasts Club - ECPv6.15.17.1//NONSGML v1.0//EN
CALSCALE:GREGORIAN
METHOD:PUBLISH
X-WR-CALNAME:Toyota Enthusiasts Club
X-ORIGINAL-URL:https://www.toyotaenthusiasts.com
X-WR-CALDESC:Events for Toyota Enthusiasts Club
REFRESH-INTERVAL;VALUE=DURATION:PT1H
X-Robots-Tag:noindex
X-PUBLISHED-TTL:PT1H
BEGIN:VTIMEZONE
TZID:UTC
BEGIN:STANDARD
TZOFFSETFROM:+0000
TZOFFSETTO:+0000
TZNAME:UTC
DTSTART:20170101T000000
END:STANDARD
END:VTIMEZONE
BEGIN:VEVENT
DTSTART;VALUE=DATE:20180323
DTEND;VALUE=DATE:20180326
DTSTAMP:20260422T100344
CREATED:20180213T192134Z
LAST-MODIFIED:20180213T232910Z
UID:601-1521763200-1522022399@www.toyotaenthusiasts.com
SUMMARY:Practical Classics Restoration Show 2018
DESCRIPTION:Officially the UK’s fastest growing classic car event and often hailed as the ‘friendly classic car show’\, over 25\,000 enthusiasts will be joining us for the Practical Classics Classic Car & Restoration Show\, with Discovery this year\, bringing together all aspects of classic motoring. From barn finds discovered after many years of storage and those project cars that have stalled in an owner’s garage\, to restorations just getting back on the road and those pristine marques with gleaming brightwork and proud as punch owners. \n  \nThe club has a 5 car stand at this show\, for more details see the event’s thread on our forums: http://tecclubinfo.proboards.com/thread/2268/practical-classics-restoration-show-march
URL:https://www.toyotaenthusiasts.com/event/practical-classics-restoration-show-2018/
LOCATION:NEC Birmingham\, The NEC\, Birmingham\, B40 1NT\, United Kingdom
CATEGORIES:Major Show
ATTACH;FMTTYPE=image/png:https://www.toyotaenthusiasts.com/wp-content/uploads/2018/02/pcrs_2018_dates_colour_withdiscovery_crop.png
END:VEVENT
END:VCALENDAR