BEGIN:VCALENDAR
VERSION:2.0
PRODID:-//Toyota Enthusiasts Club - ECPv6.15.17.1//NONSGML v1.0//EN
CALSCALE:GREGORIAN
METHOD:PUBLISH
X-ORIGINAL-URL:https://www.toyotaenthusiasts.com
X-WR-CALDESC:Events for Toyota Enthusiasts Club
REFRESH-INTERVAL;VALUE=DURATION:PT1H
X-Robots-Tag:noindex
X-PUBLISHED-TTL:PT1H
BEGIN:VTIMEZONE
TZID:UTC
BEGIN:STANDARD
TZOFFSETFROM:+0000
TZOFFSETTO:+0000
TZNAME:UTC
DTSTART:20180101T000000
END:STANDARD
END:VTIMEZONE
BEGIN:VEVENT
DTSTART;VALUE=DATE:20190216
DTEND;VALUE=DATE:20190217
DTSTAMP:20260426T010239
CREATED:20190102T221347Z
LAST-MODIFIED:20190102T221347Z
UID:1105-1550275200-1550361599@www.toyotaenthusiasts.com
SUMMARY:Toyota Parallel Pomeroy Trophy
DESCRIPTION:https://blog.toyota.co.uk/is-your-toyota-a-winner-join-us-at-silverstone-to-find-out \n \nThe Pomeroy Trophy is a competition run from Silverstone circuit on Saturday 16th February 2019\, and this year is it’s 64th running. It aims to find the best all round touring car using a formula based on that of Laurence Pomeroy. \nSome of you may remember that last year Toyota entered 2 Yaris GRMNs and a Corona into the event: https://blog.toyota.co.uk/yaris-grmn-pomeroy-trophy \nThis year\, Toyota are running the “Parallel Pomeroy Trophy” alongside the main event\, and are inviting all (road legal) Toyotas to take part. \nThe aim is to find the UKs best overall Toyota. As the event itself always has such a wide variety of cars being that anything road legal can take part\, Toyota are hoping to get a massive spread of models from over the years to participate. We would love for the club to show a good turnout here as it promises to be a great event\, and as mentioned above it doesn’t matter what Toyota you want to take part with – as long as it’s road legal. \nCompetitors will participate in a series of autotest-style challenges\, with a minimum of six tests scheduled on the day. A competition licence isn’t required\, but a road driving licence is needed and passengers are not allowed to be on board during the tests. \nThere is a £30 entry fee\, with all proceeds going to the Guide dogs for the Blind charity. Regulations along with an entry form can be found at this link: https://www.vscc.co.uk/vsccMedia/25863.pdf\, or in the blog post below.
URL:https://www.toyotaenthusiasts.com/event/toyota-parallel-pomeroy-trophy/
LOCATION:Silverstone Circuit\, Towcester\, NN12 8TN\, United Kingdom
CATEGORIES:Toyota-specific Event
ATTACH;FMTTYPE=image/jpeg:https://www.toyotaenthusiasts.com/wp-content/uploads/2018/12/257571.jpg
END:VEVENT
END:VCALENDAR