BEGIN:VCALENDAR
VERSION:2.0
PRODID:-//Toyota Enthusiasts Club - ECPv6.15.17.1//NONSGML v1.0//EN
CALSCALE:GREGORIAN
METHOD:PUBLISH
X-ORIGINAL-URL:https://www.toyotaenthusiasts.com
X-WR-CALDESC:Events for Toyota Enthusiasts Club
REFRESH-INTERVAL;VALUE=DURATION:PT1H
X-Robots-Tag:noindex
X-PUBLISHED-TTL:PT1H
BEGIN:VTIMEZONE
TZID:UTC
BEGIN:STANDARD
TZOFFSETFROM:+0000
TZOFFSETTO:+0000
TZNAME:UTC
DTSTART:20180101T000000
END:STANDARD
END:VTIMEZONE
BEGIN:VEVENT
DTSTART;VALUE=DATE:20190322
DTEND;VALUE=DATE:20190325
DTSTAMP:20260425T234056
CREATED:20190219T000849Z
LAST-MODIFIED:20190226T215638Z
UID:1130-1553212800-1553471999@www.toyotaenthusiasts.com
SUMMARY:Practical Classics Classic Car & Restoration Show 2019
DESCRIPTION:Officially the UK’s fastest growing classic car show and hailed the ‘friendliest of car shows’\, the Practical Classics Classic Car & Restoration Show\, with Discovery\, truly is Spring’s best classic car show. Taking place in March\, this year’s show attracted over 28\,000 visitors across 3 days\, and brought together all aspects of classic motoring. Walking through the halls\, visitors were greeted by cars of all marques in various states of repairs; from rusty barn finds\, through to concourse quality with everything in between. \n  \nThis year we have a 6 car stand\, and have been given an exclusive club discount code which will you get cheaper entry on Saturday and Sunday tickets. This should be reaching you soon via the club mailing list – please use this code\, as it helps the club and gets you in for less. More information on the club’s attendance can be found in the forum thread for the event at http://tecclubinfo.proboards.com/thread/2359/practical-classics-restoration-show-march. \n  \nThis is always a brilliant show with a lot going on\, and we can’t wait to see you there.
URL:https://www.toyotaenthusiasts.com/event/practical-classics-classic-car-restoration-show-2019/
LOCATION:NEC Birmingham\, The NEC\, Birmingham\, B40 1NT\, United Kingdom
CATEGORIES:Classic Car Event,Club Event,Major Show
ATTACH;FMTTYPE=image/png:https://www.toyotaenthusiasts.com/wp-content/uploads/2019/02/pcrs_2019_dates_withdiscovery1-e1550535043227.png
END:VEVENT
END:VCALENDAR