BEGIN:VCALENDAR
VERSION:2.0
PRODID:-//Toyota Enthusiasts Club - ECPv6.15.17.1//NONSGML v1.0//EN
CALSCALE:GREGORIAN
METHOD:PUBLISH
X-ORIGINAL-URL:https://www.toyotaenthusiasts.com
X-WR-CALDESC:Events for Toyota Enthusiasts Club
REFRESH-INTERVAL;VALUE=DURATION:PT1H
X-Robots-Tag:noindex
X-PUBLISHED-TTL:PT1H
BEGIN:VTIMEZONE
TZID:UTC
BEGIN:STANDARD
TZOFFSETFROM:+0000
TZOFFSETTO:+0000
TZNAME:UTC
DTSTART:20180101T000000
END:STANDARD
END:VTIMEZONE
BEGIN:VEVENT
DTSTART;VALUE=DATE:20190817
DTEND;VALUE=DATE:20190819
DTSTAMP:20260425T165129
CREATED:20190630T222307Z
LAST-MODIFIED:20190630T222307Z
UID:1327-1566000000-1566172799@www.toyotaenthusiasts.com
SUMMARY:Tatton Park ‘Passion For Power’ Classic Motor Show
DESCRIPTION:http://tecclubinfo.proboards.com/thread/2413/tatton-park-show-17th-august \n  \nTatton Park ‘Passion for Power’ Classic Motor Show & Cheshire Autojumble has been running for more than 30 years and returns to Tatton Park this summer. The show is famous for the unique and eclectic mix of powerful performance cars with rare and exciting vehicles featured every year\, from Ferraris to Lamborghinis. \nSome of our loyal car clubs will be at the show\, decked out with their themed exhibitions and elaborate knowledge of anything and everything supercar. They are always happy to have a chat about their incredible vehicles – or anything else to do with classic cars! \nAdditionally\, car lovers have the opportunity to exhibit their car for free at this years’ show. The Dream Cars Pavilion will give you an opportunity to get up close and personal with some of the fastest\, rarest and most dizzyingly expensive supercars on the planet. \nThe Show also features a massive autojumble with specialist suppliers and enthusiasts\, alongside the car mart\, which includes a great variety of general trade stalls. Whatever it is you need\, we’re sure it can be found at Tatton Park – usually at a bargain price! \nCars on show are entered into competitions across the weekend\, where over 70 prestigious awards will be presented each day for various categories from the coveted best in show to the best club stand! \nThe Lancaster Insurance Passion for Power show takes place on August 17 – 18\, 2019\, at Tatton Park\, Knutsford\, Cheshire\, WA16 6QN.
URL:https://www.toyotaenthusiasts.com/event/tatton-park-passion-for-power-classic-motor-show/
LOCATION:Tatton Park\, Tatton Park\, Knutsford\, Cheshire\, WA16 6QN\, United Kingdom
CATEGORIES:Classic Car Event,Major Show
ORGANIZER;CN="Jeff Markham":MAILTO:jeff@toyotaenthusiasts.com
END:VEVENT
END:VCALENDAR