BEGIN:VCALENDAR
VERSION:2.0
PRODID:-//Toyota Enthusiasts Club - ECPv6.15.17.1//NONSGML v1.0//EN
CALSCALE:GREGORIAN
METHOD:PUBLISH
X-ORIGINAL-URL:https://www.toyotaenthusiasts.com
X-WR-CALDESC:Events for Toyota Enthusiasts Club
REFRESH-INTERVAL;VALUE=DURATION:PT1H
X-Robots-Tag:noindex
X-PUBLISHED-TTL:PT1H
BEGIN:VTIMEZONE
TZID:UTC
BEGIN:STANDARD
TZOFFSETFROM:+0000
TZOFFSETTO:+0000
TZNAME:UTC
DTSTART:20180101T000000
END:STANDARD
END:VTIMEZONE
BEGIN:VEVENT
DTSTART;VALUE=DATE:20190922
DTEND;VALUE=DATE:20190923
DTSTAMP:20260425T152718
CREATED:20190630T202930Z
LAST-MODIFIED:20190701T222145Z
UID:1320-1569110400-1569196799@www.toyotaenthusiasts.com
SUMMARY:TEC National Meeting and AGM
DESCRIPTION:This year we have a change of venue for our annual national – the British Motor Museum at Gaydon in Warwickshire\, with the event taking place on Sunday the 22nd September. \nNo doubt many of you will have visited here before and know how excellent it is\, with a link back to Toyota in that they have in their collection the first British built Toyota. \nThe club has been allocated one of the lawns just outside the main museum building. Museum entry is discounted for TEC Members on the day\, with the museum itself opening at 10AM\, and the grounds opening for us to get into place from 9AM. The museum also has toilet and café facilities on site (food I have had here has been really nice – can recommend the pies!). \n  \nThis really is a fantastic location and we look forward to seeing you all there. You can register your interest using the form here: https://www.toyotaenthusiasts.com/toyota-event/1391/ \n  \nLocation details are below and the forum thread is here: http://tecclubinfo.proboards.com/thread/2405/national-british-motor-museum-gaydon \n  \n 
URL:https://www.toyotaenthusiasts.com/event/tec-national-meeting-and-agm/
LOCATION:British Motor Museum\, British Motor Museum\, Banbury Road\, Gaydon\, Warwickshire\, CV35 0BJ\, United Kingdom
CATEGORIES:Classic Car Event,Club Event,Major Show,Toyota-specific Event
ATTACH;FMTTYPE=image/jpeg:https://www.toyotaenthusiasts.com/wp-content/uploads/2019/06/IMG_3540-1.jpg
END:VEVENT
END:VCALENDAR