BEGIN:VCALENDAR
VERSION:2.0
PRODID:-//Toyota Enthusiasts Club - ECPv6.15.17.1//NONSGML v1.0//EN
CALSCALE:GREGORIAN
METHOD:PUBLISH
X-WR-CALNAME:Toyota Enthusiasts Club
X-ORIGINAL-URL:https://www.toyotaenthusiasts.com
X-WR-CALDESC:Events for Toyota Enthusiasts Club
REFRESH-INTERVAL;VALUE=DURATION:PT1H
X-Robots-Tag:noindex
X-PUBLISHED-TTL:PT1H
BEGIN:VTIMEZONE
TZID:UTC
BEGIN:STANDARD
TZOFFSETFROM:+0000
TZOFFSETTO:+0000
TZNAME:UTC
DTSTART:20210101T000000
END:STANDARD
END:VTIMEZONE
BEGIN:VEVENT
DTSTART;TZID=UTC:20220219T090000
DTEND;TZID=UTC:20220219T170000
DTSTAMP:20260423T204252
CREATED:20211222T171539Z
LAST-MODIFIED:20211222T171945Z
UID:1785-1645261200-1645290000@www.toyotaenthusiasts.com
SUMMARY:2022 Toyota Parallel Pomeroy Trophy
DESCRIPTION:This is a fantastic event\, and a good way to mix things up amongst static shows. Excerpt from Toyota’s event page below:\n\nThe Toyota Parallel Pomeroy Trophy is back! After a forced hiatus last year\, Toyota GB and the Vintage Sports-Car Club (VSCC) are heading back to Silverstone circuit on Saturday 19 February 2022 and Toyotas of all types and eras are invited.\n\nIn short\, the event’s mission is to find Britain’s best Toyota via a series of autotest-style driving tests\, using a unique series of calculations to ensure all are judged equally. The only strict entry requirements are that all vehicles are road-legal and Toyotas!\n\nIt’s also a fantastic social event for Toyota enthusiasts and an opportunity to swap stories with like-minded owners. Plus\, Toyota GB is bringing along some of its fleet including the new GR Yaris.\nIt costs just £35 to take part and proceeds will go to Toyota’s chosen charity\, the Motor Neurone Disease Association. Entries can be made via this link: https://fal.cn/pomeroy.\n\nToyota have also mentioned to us that they’re wanting a spectator display of various models as well\, so if you just want to visit and see the action rather than take part you can do that too.  I’ve linked Toyota’s video from the last event in 2020 below. I took part in that one and it was a really excellent day\, despite “Storm Dennis” doing it’s best to cause havoc.\n\nhttps://youtu.be/SYNRi3ySJ0s
URL:https://www.toyotaenthusiasts.com/event/2022-toyota-parallel-pomeroy-trophy/
LOCATION:Silverstone Circuit\, Towcester\, NN12 8TN\, United Kingdom
CATEGORIES:Classic Car Event,Toyota-specific Event
ATTACH;FMTTYPE=image/jpeg:https://www.toyotaenthusiasts.com/wp-content/uploads/2021/12/260406442_10158100931212633_2709744803243248014_n.jpg
END:VEVENT
END:VCALENDAR