BEGIN:VCALENDAR
VERSION:2.0
PRODID:-//Toyota Enthusiasts Club - ECPv6.15.17.1//NONSGML v1.0//EN
CALSCALE:GREGORIAN
METHOD:PUBLISH
X-ORIGINAL-URL:https://www.toyotaenthusiasts.com
X-WR-CALDESC:Events for Toyota Enthusiasts Club
REFRESH-INTERVAL;VALUE=DURATION:PT1H
X-Robots-Tag:noindex
X-PUBLISHED-TTL:PT1H
BEGIN:VTIMEZONE
TZID:UTC
BEGIN:STANDARD
TZOFFSETFROM:+0000
TZOFFSETTO:+0000
TZNAME:UTC
DTSTART:20210101T000000
END:STANDARD
END:VTIMEZONE
BEGIN:VEVENT
DTSTART;VALUE=DATE:20220403
DTEND;VALUE=DATE:20220404
DTSTAMP:20260423T173521
CREATED:20220327T163334Z
LAST-MODIFIED:20220327T163334Z
UID:1923-1648944000-1649030399@www.toyotaenthusiasts.com
SUMMARY:Retro Toyota Day
DESCRIPTION:After a COVID enforced extended break\, we are very pleased to say Retro Toyota Day is back\, bigger and better than ever for 2022! The modern\, cutting edge cars will once again be removed from the showroom\, the forecourt will be cleared and the whole site will be taken over by the best original and highly modified Toyotas such as meticulously cared for classics like the Crown and the 1970s Celicas to tuned up high powered Supras\, MR2s and GT-FOURS amongst others! \nPrizes will be awarded for a number of categories and we encourage all Retro cars to attend as a prize will be presented to the best Non-Toyota of the day! \nThe event will be taking place on Sunday the 3rd of April 2022 at Toyota Carlisle\, just off J44 of the M6. We hope to see you there!
URL:https://www.toyotaenthusiasts.com/event/retro-toyota-day-3/
LOCATION:Toyota Carlisle\, Border Toyota Carlisle\, Parkhouse Rd\, Carlisle\, CA3 0JR\, United Kingdom
CATEGORIES:Classic Car Event,Club Event,Major Show,Toyota-specific Event
ATTACH;FMTTYPE=image/jpeg:https://www.toyotaenthusiasts.com/wp-content/uploads/2019/06/56830144_2144982598888610_7280006026697375744_o_2144982592221944.jpg
END:VEVENT
BEGIN:VEVENT
DTSTART;VALUE=DATE:20220424
DTEND;VALUE=DATE:20220425
DTSTAMP:20260423T173521
CREATED:20220327T163516Z
LAST-MODIFIED:20220327T163536Z
UID:1925-1650758400-1650844799@www.toyotaenthusiasts.com
SUMMARY:Drive it day 2022
DESCRIPTION:National Drive It Day was created by the Federation of British Historic Vehicle Clubs in 2005.  It is the occasion when historic vehicle enthusiasts and the public at large have the opportunity to celebrate the One Thousand Mile Trial organised in 1900 to prove the viability of the new invention\, the motor vehicle. It’s also a chance to raise awareness and support amongst the public for the historic vehicle movement and keeping transport heritage on UK roads.
URL:https://www.toyotaenthusiasts.com/event/drive-it-day-2022/
LOCATION:Warwickshire
CATEGORIES:Classic Car Event
END:VEVENT
END:VCALENDAR