BEGIN:VCALENDAR
VERSION:2.0
PRODID:-//Toyota Enthusiasts Club - ECPv6.15.17.1//NONSGML v1.0//EN
CALSCALE:GREGORIAN
METHOD:PUBLISH
X-WR-CALNAME:Toyota Enthusiasts Club
X-ORIGINAL-URL:https://www.toyotaenthusiasts.com
X-WR-CALDESC:Events for Toyota Enthusiasts Club
REFRESH-INTERVAL;VALUE=DURATION:PT1H
X-Robots-Tag:noindex
X-PUBLISHED-TTL:PT1H
BEGIN:VTIMEZONE
TZID:UTC
BEGIN:STANDARD
TZOFFSETFROM:+0000
TZOFFSETTO:+0000
TZNAME:UTC
DTSTART:20210101T000000
END:STANDARD
END:VTIMEZONE
BEGIN:VEVENT
DTSTART;TZID=UTC:20220515T100000
DTEND;TZID=UTC:20220515T160000
DTSTAMP:20260423T155227
CREATED:20220424T143528Z
LAST-MODIFIED:20220424T144026Z
UID:1936-1652608800-1652630400@www.toyotaenthusiasts.com
SUMMARY:North Wales Classic Car & Motorcycle Show at Bodrhyddan Hall
DESCRIPTION:https://classicshows.org/events/sunday-15-may-2022-north-wales-classic-car-motorcycle-show-at-bodrhyddan-hall- \nOPENING TIMES \n10am-4pm  \nVEHICLE DISPLAYS \nExpect to see in the region of 600 vintage\, classic and modern classic vehicles on display including a large turnout of Vauxhall-Opels as a result of them being the featured marque. \nThere will be a variety of private vehicles displayed by age (pre-60s\, 60s\, 70s\, 80s\, 90s-07) and category (sports and convertibles\, kit\, custom and replica and American) plus a wide range of club stands and displays from the likes of the Jaguar Enthusiast Club\, Mercedes Benz Owners Club\, Snowden Minis MR2 Drivers Club\, Wigan Classics\, Stag Owners Club\, North West Kit Car Owners Club\, Vauxhall Drivers\, Toyota Enthusiasts and Cestrian Motoring Group. \nIn the classic bike section all the major classic bike manufacturers will be represented such as BSA\, Norton and Velocette. \nAnymore than 5 cars requires a pre-booked area for us to park so please let Jeff know if you’re interested at jeff@toyotaenthusiasts.com. \n\nTickets are available here: https://classicshows.seetickets.com/event/north-wales-classic-car-motorcycle-show/bodrhyddan-hall/2310465
URL:https://www.toyotaenthusiasts.com/event/north-wales-classic-car-motorcycle-show-at-bodrhyddan-hall/
LOCATION:Bodrhyddan Hall\, Dyserth Rd\, Rhuddlan\, Rhyl\, LL18 5SB
CATEGORIES:Classic Car Event,Club Event
ORGANIZER;CN="Jeff Markham":MAILTO:jeff@toyotaenthusiasts.com
END:VEVENT
BEGIN:VEVENT
DTSTART;VALUE=DATE:20220529
DTEND;VALUE=DATE:20220530
DTSTAMP:20260423T155227
CREATED:20220327T163755Z
LAST-MODIFIED:20220327T163823Z
UID:1927-1653782400-1653868799@www.toyotaenthusiasts.com
SUMMARY:MR2 Drivers Club National day
DESCRIPTION:https://mr2dc.com/events/mr2-national-day-2022/
URL:https://www.toyotaenthusiasts.com/event/mr2-drivers-club-national-day/
LOCATION:Hatton Country World\, Hatton Country World\, Dark Lane\, Hatton\, Warwick\, Warwickshire\, CV35 8XA\, United Kingdom
CATEGORIES:Classic Car Event,Major Show,Toyota-specific Event
END:VEVENT
END:VCALENDAR