BEGIN:VCALENDAR
VERSION:2.0
PRODID:-//Toyota Enthusiasts Club - ECPv6.15.17.1//NONSGML v1.0//EN
CALSCALE:GREGORIAN
METHOD:PUBLISH
X-WR-CALNAME:Toyota Enthusiasts Club
X-ORIGINAL-URL:https://www.toyotaenthusiasts.com
X-WR-CALDESC:Events for Toyota Enthusiasts Club
REFRESH-INTERVAL;VALUE=DURATION:PT1H
X-Robots-Tag:noindex
X-PUBLISHED-TTL:PT1H
BEGIN:VTIMEZONE
TZID:UTC
BEGIN:STANDARD
TZOFFSETFROM:+0000
TZOFFSETTO:+0000
TZNAME:UTC
DTSTART:20220101T000000
END:STANDARD
END:VTIMEZONE
BEGIN:VEVENT
DTSTART;VALUE=DATE:20230603
DTEND;VALUE=DATE:20230605
DTSTAMP:20260422T175306
CREATED:20230326T181106Z
LAST-MODIFIED:20230716T181205Z
UID:2112-1685750400-1685923199@www.toyotaenthusiasts.com
SUMMARY:Tatton Park Classic & Performance Car Spectacular
DESCRIPTION:
URL:https://www.toyotaenthusiasts.com/event/tatton-park-classic-performance-car-spectacular-2/
LOCATION:Tatton Park\, Tatton Park\, Knutsford\, Cheshire\, WA16 6QN\, United Kingdom
CATEGORIES:Classic Car Event,Major Show
ORGANIZER;CN="Jeff Markham":MAILTO:jeff@toyotaenthusiasts.com
END:VEVENT
BEGIN:VEVENT
DTSTART;VALUE=DATE:20230604
DTEND;VALUE=DATE:20230605
DTSTAMP:20260422T175306
CREATED:20230326T180937Z
LAST-MODIFIED:20230716T181236Z
UID:2110-1685836800-1685923199@www.toyotaenthusiasts.com
SUMMARY:MR2 Drivers club national day - 4th June 2023
DESCRIPTION:
URL:https://www.toyotaenthusiasts.com/event/mr2-drivers-club-national-day-29th-may-2023/
LOCATION:Hatton Country World\, Hatton Country World\, Dark Lane\, Hatton\, Warwick\, Warwickshire\, CV35 8XA\, United Kingdom
CATEGORIES:Classic Car Event,Toyota-specific Event
END:VEVENT
END:VCALENDAR