BEGIN:VCALENDAR
VERSION:2.0
PRODID:-//Toyota Enthusiasts Club - ECPv6.15.17.1//NONSGML v1.0//EN
CALSCALE:GREGORIAN
METHOD:PUBLISH
X-WR-CALNAME:Toyota Enthusiasts Club
X-ORIGINAL-URL:https://www.toyotaenthusiasts.com
X-WR-CALDESC:Events for Toyota Enthusiasts Club
REFRESH-INTERVAL;VALUE=DURATION:PT1H
X-Robots-Tag:noindex
X-PUBLISHED-TTL:PT1H
BEGIN:VTIMEZONE
TZID:UTC
BEGIN:STANDARD
TZOFFSETFROM:+0000
TZOFFSETTO:+0000
TZNAME:UTC
DTSTART:20220101T000000
END:STANDARD
END:VTIMEZONE
BEGIN:VEVENT
DTSTART;VALUE=DATE:20230813
DTEND;VALUE=DATE:20230814
DTSTAMP:20260422T144812
CREATED:20230326T181541Z
LAST-MODIFIED:20230802T190517Z
UID:2120-1691884800-1691971199@www.toyotaenthusiasts.com
SUMMARY:TEC National Meeting
DESCRIPTION:
URL:https://www.toyotaenthusiasts.com/event/tec-national-meeting/
LOCATION:The Motorist\, New Lennerton Ln\, Leeds\, LS25 6JE
CATEGORIES:Club Event,Toyota-specific Event
END:VEVENT
BEGIN:VEVENT
DTSTART;VALUE=DATE:20230819
DTEND;VALUE=DATE:20230821
DTSTAMP:20260422T144812
CREATED:20230326T181315Z
LAST-MODIFIED:20230716T181353Z
UID:2115-1692403200-1692575999@www.toyotaenthusiasts.com
SUMMARY:Tatton Park Classic & Performance Car Spectacular
DESCRIPTION:
URL:https://www.toyotaenthusiasts.com/event/tatton-park-classic-performance-car-spectacular-3/
LOCATION:Tatton Park\, Tatton Park\, Knutsford\, Cheshire\, WA16 6QN\, United Kingdom
CATEGORIES:Classic Car Event,Major Show
ORGANIZER;CN="Jeff Markham":MAILTO:jeff@toyotaenthusiasts.com
END:VEVENT
BEGIN:VEVENT
DTSTART;VALUE=DATE:20230820
DTEND;VALUE=DATE:20230821
DTSTAMP:20260422T144812
CREATED:20230326T181403Z
LAST-MODIFIED:20230716T181521Z
UID:2117-1692489600-1692575999@www.toyotaenthusiasts.com
SUMMARY:Cumbria Classic Car Show
DESCRIPTION:
URL:https://www.toyotaenthusiasts.com/event/cumbria-classic-car-show/
LOCATION:Dalemain House\, Dalemain\, Penrith\, CA11 0HB\, United Kingdom
ORGANIZER;CN="Harvey Wade":MAILTO:tecmembership@yahoo.co.uk
END:VEVENT
END:VCALENDAR