BEGIN:VCALENDAR
VERSION:2.0
PRODID:-//Toyota Enthusiasts Club - ECPv6.15.17.1//NONSGML v1.0//EN
CALSCALE:GREGORIAN
METHOD:PUBLISH
X-ORIGINAL-URL:https://www.toyotaenthusiasts.com
X-WR-CALDESC:Events for Toyota Enthusiasts Club
REFRESH-INTERVAL;VALUE=DURATION:PT1H
X-Robots-Tag:noindex
X-PUBLISHED-TTL:PT1H
BEGIN:VTIMEZONE
TZID:UTC
BEGIN:STANDARD
TZOFFSETFROM:+0000
TZOFFSETTO:+0000
TZNAME:UTC
DTSTART:20230101T000000
END:STANDARD
END:VTIMEZONE
BEGIN:VEVENT
DTSTART;VALUE=DATE:20240901
DTEND;VALUE=DATE:20240902
DTSTAMP:20260421T171610
CREATED:20240506T165519Z
LAST-MODIFIED:20240706T165644Z
UID:2158-1725148800-1725235199@www.toyotaenthusiasts.com
SUMMARY:Classic & Performance Motor Show
DESCRIPTION:
URL:https://www.toyotaenthusiasts.com/event/classic-performance-motor-show/
LOCATION:Arley Hall\, Arley Hall & Gardens\, Northwich\, Cheshire\, CW9 6NA\, United Kingdom
CATEGORIES:Classic Car Event,Major Show
END:VEVENT
BEGIN:VEVENT
DTSTART;VALUE=DATE:20240908
DTEND;VALUE=DATE:20240909
DTSTAMP:20260421T171610
CREATED:20240506T165648Z
LAST-MODIFIED:20240706T165734Z
UID:2161-1725753600-1725839999@www.toyotaenthusiasts.com
SUMMARY:Festival of 1000 Classic Cars
DESCRIPTION:
URL:https://www.toyotaenthusiasts.com/event/festival-of-1000-classic-cars/
LOCATION:Cholmondeley Castle\, Cholmondeley Castle\, Malpas\, Cheshire\, SY14 8AH\, United Kingdom
CATEGORIES:Classic Car Event,Major Show
ORGANIZER;CN="Jeff Markham":MAILTO:jeff@toyotaenthusiasts.com
END:VEVENT
END:VCALENDAR